BEGIN:VCALENDAR
VERSION:2.0
PRODID:-//Piedmont Airlines - ECPv6.6.4.2//NONSGML v1.0//EN
CALSCALE:GREGORIAN
METHOD:PUBLISH
X-ORIGINAL-URL:https://piedmont-airlines.com
X-WR-CALDESC:Events for Piedmont Airlines
REFRESH-INTERVAL;VALUE=DURATION:PT1H
X-Robots-Tag:noindex
X-PUBLISHED-TTL:PT1H
BEGIN:VTIMEZONE
TZID:America/New_York
BEGIN:DAYLIGHT
TZOFFSETFROM:-0500
TZOFFSETTO:-0400
TZNAME:EDT
DTSTART:20260308T070000
END:DAYLIGHT
BEGIN:STANDARD
TZOFFSETFROM:-0400
TZOFFSETTO:-0500
TZNAME:EST
DTSTART:20261101T060000
END:STANDARD
END:VTIMEZONE
BEGIN:VEVENT
DTSTART;VALUE=DATE:20260421
DTEND;VALUE=DATE:20260424
DTSTAMP:20260421T035712
CREATED:20260320T172240Z
LAST-MODIFIED:20260320T173810Z
UID:6990-1776729600-1776988799@piedmont-airlines.com
SUMMARY:2026 Aerospace Maintenance Council Competition
DESCRIPTION:Piedmont Airlines recruiters are excited to be in attendance at the 2026 Aerospace Maintenance Council (AMC) Competition at MRO Americas\, the year’s most significant aviation maintenance gathering. The AMC Competition will run from April 21 to April 23 on the exhibition floor at the Orange County Convention Center in Orlando\, Florida. Join us to discover why there has never been a better time to join the Piedmont team. \nFor schedules and more information about how to register for the AMC Competition at MRO Americas please click here.
URL:https://piedmont-airlines.com/event/2026-aerospace-maintenance-council-competition/
LOCATION:Orange County Convention Center\, 9800 International Drive\, Orlando\, FL\, 32819\, United States
CATEGORIES:Maintenance
ATTACH;FMTTYPE=image/jpeg:https://piedmont-airlines.com/wp-content/uploads/2025/10/IMG_MX_Tuition-Payment-Program-Article-Alternative-2.jpg
END:VEVENT
BEGIN:VEVENT
DTSTART;VALUE=DATE:20260422
DTEND;VALUE=DATE:20260424
DTSTAMP:20260421T035712
CREATED:20260227T212304Z
LAST-MODIFIED:20260320T170724Z
UID:6944-1776816000-1776988799@piedmont-airlines.com
SUMMARY:AIM Norfolk Career Fair
DESCRIPTION:Please note\, this event is only for AIM Norfolk students and alumni. \nPiedmont Airlines recruiters will be attending the Aviation Institute of Maintenance (AIM) Norfolk Career Fair on April 22 and April 23. This is a great opportunity for students to ask questions and learn more about launching their career as an aircraft maintenance technician.
URL:https://piedmont-airlines.com/event/aim-norfolk-career-fair-5/
LOCATION:AIM Norfolk\, 2329 E. Little Creek Rd\, Norfolk\, VA\, 23518\, United States
CATEGORIES:Maintenance
ATTACH;FMTTYPE=image/png:https://piedmont-airlines.com/wp-content/uploads/2023/01/AIM-Logo-2.png
END:VEVENT
BEGIN:VEVENT
DTSTART;TZID=America/New_York:20260424T080000
DTEND;TZID=America/New_York:20260424T120000
DTSTAMP:20260421T035712
CREATED:20260403T155747Z
LAST-MODIFIED:20260403T155747Z
UID:7125-1777017600-1777032000@piedmont-airlines.com
SUMMARY:FAPA's 2026 FREE Pilot Job Fair
DESCRIPTION:Piedmont Airlines Recruiters will be in attendance at the Future & Active Pilots Alliance’s 2026 Free Pilot Job Fair in Washington\, DC on April 24. This is a great opportunity to network with aviation industry professionals and gain insight into what makes Piedmont the right choice for your aviation career. \nClick here for schedules and more information about how to register for the event.
URL:https://piedmont-airlines.com/event/fapas-2026-free-pilot-job-fair/
LOCATION:Hilton Arlington National Landing\, 2399 Richmond Hwy\, Arlington\, VA\, 22202\, United States
CATEGORIES:Pilots
ATTACH;FMTTYPE=image/jpeg:https://piedmont-airlines.com/wp-content/uploads/2022/07/img_CC_145_tails_.jpg
END:VEVENT
BEGIN:VEVENT
DTSTART;TZID=America/New_York:20260427T100000
DTEND;TZID=America/New_York:20260427T120000
DTSTAMP:20260421T035712
CREATED:20260420T121914Z
LAST-MODIFIED:20260420T122242Z
UID:7311-1777284000-1777291200@piedmont-airlines.com
SUMMARY:Piedmont Airlines at Hudson Valley Community College
DESCRIPTION:Please note\, this event is only for Hudson Valley Community College students and alumni. \nPiedmont Airlines recruiters will be visiting Hudson Valley Community College on April 27. This event is a great opportunity for students to meet industry professionals and introduce themselves as potential interns\, summer workers or full-time employees. \nClick here for more information on the corporate positions at Piedmont Airlines.
URL:https://piedmont-airlines.com/event/piedmont-airlines-at-hudson-valley-community-college/
LOCATION:Hudson Valley Community College\, 80 Vandenburgh Ave\, Troy\, NY\, 12180\, United States
ATTACH;FMTTYPE=image/jpeg:https://piedmont-airlines.com/wp-content/uploads/2025/05/IMG_CC_aviation-career-paths-scaled-e1747236044411.jpg
END:VEVENT
BEGIN:VEVENT
DTSTART;VALUE=DATE:20260429
DTEND;VALUE=DATE:20260430
DTSTAMP:20260421T035712
CREATED:20260420T122223Z
LAST-MODIFIED:20260420T122223Z
UID:7315-1777420800-1777507199@piedmont-airlines.com
SUMMARY:Piedmont Airlines at AIM Hasbrouck Heights
DESCRIPTION:Please note\, this event is only for AIM Hasbrouck Heights students and alumni. \nPiedmont Airlines recruiters will be visiting the Aviation Institute of Maintenance (AIM) at Hasbrouck Heights on Wednesday\, April 29. This is a great opportunity for students to ask questions and learn more about launching their career as an aircraft maintenance technician.
URL:https://piedmont-airlines.com/event/piedmont-airlines-at-aim-hasbrouck-heights/
LOCATION:AIM Hasbrouck Heights\, 459 NJ-17\, Hasbrouck Heights\, NJ\, 07604\, United States
CATEGORIES:Maintenance
ATTACH;FMTTYPE=image/png:https://piedmont-airlines.com/wp-content/uploads/2023/01/AIM-Logo-2.png
END:VEVENT
BEGIN:VEVENT
DTSTART;TZID=America/New_York:20260506T090000
DTEND;TZID=America/New_York:20260506T143000
DTSTAMP:20260421T035712
CREATED:20260320T172649Z
LAST-MODIFIED:20260403T191901Z
UID:6997-1778058000-1778077800@piedmont-airlines.com
SUMMARY:PIA Pittsburgh Career Fair
DESCRIPTION:Please note\, this event is only for PIA Pittsburgh students and alumni. \nPiedmont Airlines Maintenance Recruiters will be attending the Pittsburgh Institute Aeronautics (PIA) Pittsburgh Career Fair on May 6. This is a great opportunity for students to ask their questions about the industry and discover the next steps of launching a career in aircraft maintenance.
URL:https://piedmont-airlines.com/event/pia-pittsburgh-career-fair-5/
LOCATION:PIA Pittsburgh\, 5 Allegheny County Airport\, West Mifflin\, PA\, 15122\, United States
CATEGORIES:Maintenance
ATTACH;FMTTYPE=image/jpeg:https://piedmont-airlines.com/wp-content/uploads/2022/10/pia-school-for-aviation-maintenance-og.jpg
END:VEVENT
BEGIN:VEVENT
DTSTART;VALUE=DATE:20260512
DTEND;VALUE=DATE:20260513
DTSTAMP:20260421T035712
CREATED:20260320T173407Z
LAST-MODIFIED:20260320T175452Z
UID:6999-1778544000-1778630399@piedmont-airlines.com
SUMMARY:Piedmont Airlines at Academy of Aviation
DESCRIPTION:Please note\, this event is only open to Academy of Aviation students and alumni. \nPiedmont Airlines recruiters will be visiting Academy of Aviation in Gastonia\, North Carolina on May 12. This is a great opportunity for students to ask questions about the aviation industry and learn about the best path to the flight deck. \nLearn more about Piedmont’s Cadet Program.
URL:https://piedmont-airlines.com/event/piedmont-airlines-at-academy-of-aviation/
LOCATION:Academy of Aviation\, 1030 Gaston Day School Rd\, Gastonia\, NC\, 28056\, United States
CATEGORIES:Cadets
ATTACH;FMTTYPE=image/jpeg:https://piedmont-airlines.com/wp-content/uploads/2026/02/DSC08830-Edit.jpg
END:VEVENT
BEGIN:VEVENT
DTSTART;VALUE=DATE:20260514
DTEND;VALUE=DATE:20260515
DTSTAMP:20260421T035712
CREATED:20260403T191845Z
LAST-MODIFIED:20260403T191845Z
UID:7129-1778716800-1778803199@piedmont-airlines.com
SUMMARY:UTI Michigan Career Fair
DESCRIPTION:Please note\, this event is only for Universal Technical Institute Michigan students and alumni. \nPiedmont Airlines Maintenance Recruiters will be attending the Universal Technical Institute (UTI) Michigan Career Fair on May 14. This is a great opportunity for students to ask their questions about the industry and discover the next steps of launching a career in aircraft maintenance.
URL:https://piedmont-airlines.com/event/uti-michigan-career-fair/
LOCATION:Universal Technical Institute Michigan\, 2955 South Haggerty Road\, Canton\, MI\, 48188\, United States
CATEGORIES:Maintenance
ATTACH;FMTTYPE=image/jpeg:https://piedmont-airlines.com/wp-content/uploads/2025/10/IMG_MX_Maintenance-Technician.jpg
END:VEVENT
BEGIN:VEVENT
DTSTART;VALUE=DATE:20260514
DTEND;VALUE=DATE:20260515
DTSTAMP:20260421T035712
CREATED:20260420T121359Z
LAST-MODIFIED:20260420T121943Z
UID:7309-1778716800-1778803199@piedmont-airlines.com
SUMMARY:NAA Tampa Career Fair
DESCRIPTION:Please note\, this event is only open to National Aviation Academy Tampa Bay students and alumni. \nPiedmont Airlines recruiters will be attending the National Aviation Academy (NAA) Tampa Bay Career Fair on May 14. This is a great opportunity for students to ask questions about the aviation industry and learn about the best path to the flight deck. \nLearn more about Piedmont’s Cadet Program.
URL:https://piedmont-airlines.com/event/naa-tampa-career-fair/
LOCATION:NAA Tampa Bay\, 6225 Ulmerton Rd\, Clearwater\, FL\, 33760\, United States
CATEGORIES:Cadets,Pilots
ATTACH;FMTTYPE=image/jpeg:https://piedmont-airlines.com/wp-content/uploads/2026/04/pilotcareers-e1775661775414.jpg
END:VEVENT
BEGIN:VEVENT
DTSTART;VALUE=DATE:20260520
DTEND;VALUE=DATE:20260524
DTSTAMP:20260421T035712
CREATED:20260320T174514Z
LAST-MODIFIED:20260320T174539Z
UID:7001-1779235200-1779580799@piedmont-airlines.com
SUMMARY:2026 AeroSummit Conference
DESCRIPTION:Piedmont Airlines is excited to attend the 2026 AeroSummit Conference. AeroSummit is a conference for flight schools\, CFIs\, suppliers\, and students looking to shape the future of aviation education. This is a great opportunity to network with aviation industry professionals and gain insight into the available opportunities at Piedmont. \nClick here for schedules and more information about how to register for AeroSummit.
URL:https://piedmont-airlines.com/event/2026-aerosummit-conference/
LOCATION:JW Marriott Turnberry\, 19999 W Country Club Dr\, Aventura\, FL\, 33180\, United States
CATEGORIES:Flight Attendants,Ground Handling,Maintenance,Pilots
ATTACH;FMTTYPE=image/jpeg:https://piedmont-airlines.com/wp-content/uploads/2023/11/Pilot-May-2022.jpeg
END:VEVENT
BEGIN:VEVENT
DTSTART;VALUE=DATE:20260601
DTEND;VALUE=DATE:20260604
DTSTAMP:20260421T035712
CREATED:20260320T175402Z
LAST-MODIFIED:20260420T120946Z
UID:7006-1780272000-1780531199@piedmont-airlines.com
SUMMARY:PAPA Aerospace Expo 2026
DESCRIPTION:Piedmont Airlines is proud to attend this year’s Professional Asian Pilots Association (PAPA) Aerospace Expo at the Westgate Las Vegas Resort and Casino in Las Vegas\, Nevada on June 1 – 3\, 2026. This is a great opportunity to develop your identity as an industry professional and establish your path to the flight deck. Meet with Piedmont recruiters and discover your place in our growing airline. \nClick here for more information about the PAPA Aerospace Expo and how to register.
URL:https://piedmont-airlines.com/event/papa-aerospace-expo-2026/
LOCATION:Westgate Las Vegas Resort & Casino\, 3000 Paradise Rd\, Las Vegas\, NV\, 89109\, United States
CATEGORIES:Pilots
ATTACH;FMTTYPE=image/jpeg:https://piedmont-airlines.com/wp-content/uploads/2025/06/IMG_CC_Fuel_Feature.jpg
END:VEVENT
END:VCALENDAR